BEGIN:VCALENDAR
VERSION:2.0
PRODID:icalendar-ruby
CALSCALE:GREGORIAN
BEGIN:VEVENT
DTSTAMP:20260420T125017Z
UID:05a2b8eb-7f03-407a-b0fc-3cec2d9a6711
DTSTART;VALUE=DATE:20220407
DESCRIPTION:Property ID# 531871\, Time: 11:00AM
SUMMARY:Auction for 
END:VEVENT
END:VCALENDAR
