BEGIN:VCALENDAR
VERSION:2.0
PRODID:icalendar-ruby
CALSCALE:GREGORIAN
BEGIN:VEVENT
DTSTAMP:20260424T040052Z
UID:4efe25ce-6402-4a4f-a2d5-1b717cfa3684
DTSTART;VALUE=DATE:20240523
DESCRIPTION:Property ID# 574853\, Locatoin: Harcourts Grenadier 98 Moorhous
 e Avenue\, Time: 11:00AM
SUMMARY:Auction for 
END:VEVENT
END:VCALENDAR
