BEGIN:VCALENDAR
VERSION:2.0
PRODID:icalendar-ruby
CALSCALE:GREGORIAN
BEGIN:VEVENT
DTSTAMP:20260420T085901Z
UID:82d6b44c-2cb3-4f18-86bf-4d8f1053a9b6
DTSTART;VALUE=DATE:20250925
DESCRIPTION:Property ID# 596629\, Locatoin: Harcourts Grenadier 98 Moorhous
 e Avenue\, Time: 11:00AM
SUMMARY:Auction for 
END:VEVENT
END:VCALENDAR
